BEGIN:VCALENDAR
VERSION:2.0
PRODID:-//Greenscape of Jacksonville - ECPv6.15.20//NONSGML v1.0//EN
CALSCALE:GREGORIAN
METHOD:PUBLISH
X-ORIGINAL-URL:https://greenscapeofjax.org
X-WR-CALDESC:Events for Greenscape of Jacksonville
REFRESH-INTERVAL;VALUE=DURATION:PT1H
X-Robots-Tag:noindex
X-PUBLISHED-TTL:PT1H
BEGIN:VTIMEZONE
TZID:UTC
BEGIN:STANDARD
TZOFFSETFROM:+0000
TZOFFSETTO:+0000
TZNAME:UTC
DTSTART:20250101T000000
END:STANDARD
END:VTIMEZONE
BEGIN:VTIMEZONE
TZID:America/New_York
BEGIN:DAYLIGHT
TZOFFSETFROM:-0500
TZOFFSETTO:-0400
TZNAME:EDT
DTSTART:20250309T070000
END:DAYLIGHT
BEGIN:STANDARD
TZOFFSETFROM:-0400
TZOFFSETTO:-0500
TZNAME:EST
DTSTART:20251102T060000
END:STANDARD
BEGIN:DAYLIGHT
TZOFFSETFROM:-0500
TZOFFSETTO:-0400
TZNAME:EDT
DTSTART:20260308T070000
END:DAYLIGHT
BEGIN:STANDARD
TZOFFSETFROM:-0400
TZOFFSETTO:-0500
TZNAME:EST
DTSTART:20261101T060000
END:STANDARD
BEGIN:DAYLIGHT
TZOFFSETFROM:-0500
TZOFFSETTO:-0400
TZNAME:EDT
DTSTART:20270314T070000
END:DAYLIGHT
BEGIN:STANDARD
TZOFFSETFROM:-0400
TZOFFSETTO:-0500
TZNAME:EST
DTSTART:20271107T060000
END:STANDARD
END:VTIMEZONE
BEGIN:VEVENT
DTSTART;TZID=UTC:20260116T130000
DTEND;TZID=UTC:20260116T163000
DTSTAMP:20260421T190537
CREATED:20220928T120924Z
LAST-MODIFIED:20260106T201646Z
UID:10244-1768568400-1768581000@greenscapeofjax.org
SUMMARY:Great Tree Giveaway - Friday Unloading and Staging - UNF Stadium Parking Lot 18
DESCRIPTION:Volunteer oppotunties for Friday afternoon unloading and staging for the Tree Giveaway are filled.  Thank you so much for support as we work to improve the tree canopy in our community!
URL:https://greenscapeofjax.org/event/tree-giveaway-unloading-and-stage-event/
LOCATION:UNF Stadium Parking Lot 18\, 1 UNF Drive\, Jacksonville\, FL\, 32224\, United States
CATEGORIES:Tree Giveaway
ATTACH;FMTTYPE=image/jpeg:https://greenscapeofjax.org/wp-content/uploads/2022/09/Copy-of-F2B95EB9-973E-4F8F-905B-F8E1146B46E1.jpg
END:VEVENT
BEGIN:VEVENT
DTSTART;TZID=America/New_York:20260117T090000
DTEND;TZID=America/New_York:20260117T130000
DTSTAMP:20260421T190537
CREATED:20170215T010113Z
LAST-MODIFIED:20260105T200143Z
UID:8655-1768640400-1768654800@greenscapeofjax.org
SUMMARY:Great Tree Giveaway and Paper Collection Event - UNF Stadium Parking Lot 18
DESCRIPTION:Free trees and free document shredding!  We’re partnering with Keep Jacksonville Beautiful who will collect up to 2 (30) gallon bags of paper documents that will be hauled offsite for shredding.  It’s a drive-through event\, drop your bags for shredding and then pop your trunk for free trees! Join us at UNF Stadium Parking Lot 18\, located between S UNF Dr. and North Entrance Rd. to receive your trees  and drop off paper for recycling. \nUp to 3 free trees on a first-come\, first-serve basis. Trees are 3 gallon and stand approximately 4 -6 feet tall. \nEmail us at info@greenscapeofjacksonville.org\, or call 904-398-5757 if you have questions.  For information about the paper collection event\, call COJ Environmental Quality Division at 904-255-8276. \nVolunteer opportunities for Saturday are full. If you are interested in volunteering on Friday\, visit our calendar and click on the Great Tree Giveaway Friday Unloading/Staging volunteer opportunity to sign up.
URL:https://greenscapeofjax.org/event/greenscape-tree-festival/
LOCATION:UNF Stadium Parking Lot 18\, 1 UNF Drive\, Jacksonville\, FL\, 32224\, United States
CATEGORIES:Tree Giveaway
ATTACH;FMTTYPE=image/jpeg:https://greenscapeofjax.org/wp-content/uploads/2020/10/28.jpg
END:VEVENT
END:VCALENDAR