BEGIN:VCALENDAR
VERSION:2.0
PRODID:-//Greenscape of Jacksonville - ECPv6.15.20//NONSGML v1.0//EN
CALSCALE:GREGORIAN
METHOD:PUBLISH
X-WR-CALNAME:Greenscape of Jacksonville
X-ORIGINAL-URL:https://greenscapeofjax.org
X-WR-CALDESC:Events for Greenscape of Jacksonville
REFRESH-INTERVAL;VALUE=DURATION:PT1H
X-Robots-Tag:noindex
X-PUBLISHED-TTL:PT1H
BEGIN:VTIMEZONE
TZID:America/New_York
BEGIN:DAYLIGHT
TZOFFSETFROM:-0500
TZOFFSETTO:-0400
TZNAME:EDT
DTSTART:20180311T070000
END:DAYLIGHT
BEGIN:STANDARD
TZOFFSETFROM:-0400
TZOFFSETTO:-0500
TZNAME:EST
DTSTART:20181104T060000
END:STANDARD
BEGIN:DAYLIGHT
TZOFFSETFROM:-0500
TZOFFSETTO:-0400
TZNAME:EDT
DTSTART:20190310T070000
END:DAYLIGHT
BEGIN:STANDARD
TZOFFSETFROM:-0400
TZOFFSETTO:-0500
TZNAME:EST
DTSTART:20191103T060000
END:STANDARD
BEGIN:DAYLIGHT
TZOFFSETFROM:-0500
TZOFFSETTO:-0400
TZNAME:EDT
DTSTART:20200308T070000
END:DAYLIGHT
BEGIN:STANDARD
TZOFFSETFROM:-0400
TZOFFSETTO:-0500
TZNAME:EST
DTSTART:20201101T060000
END:STANDARD
BEGIN:DAYLIGHT
TZOFFSETFROM:-0500
TZOFFSETTO:-0400
TZNAME:EDT
DTSTART:20210314T070000
END:DAYLIGHT
BEGIN:STANDARD
TZOFFSETFROM:-0400
TZOFFSETTO:-0500
TZNAME:EST
DTSTART:20211107T060000
END:STANDARD
BEGIN:DAYLIGHT
TZOFFSETFROM:-0500
TZOFFSETTO:-0400
TZNAME:EDT
DTSTART:20220313T070000
END:DAYLIGHT
BEGIN:STANDARD
TZOFFSETFROM:-0400
TZOFFSETTO:-0500
TZNAME:EST
DTSTART:20221106T060000
END:STANDARD
BEGIN:DAYLIGHT
TZOFFSETFROM:-0500
TZOFFSETTO:-0400
TZNAME:EDT
DTSTART:20230312T070000
END:DAYLIGHT
BEGIN:STANDARD
TZOFFSETFROM:-0400
TZOFFSETTO:-0500
TZNAME:EST
DTSTART:20231105T060000
END:STANDARD
BEGIN:DAYLIGHT
TZOFFSETFROM:-0500
TZOFFSETTO:-0400
TZNAME:EDT
DTSTART:20240310T070000
END:DAYLIGHT
BEGIN:STANDARD
TZOFFSETFROM:-0400
TZOFFSETTO:-0500
TZNAME:EST
DTSTART:20241103T060000
END:STANDARD
END:VTIMEZONE
BEGIN:VTIMEZONE
TZID:UTC
BEGIN:STANDARD
TZOFFSETFROM:+0000
TZOFFSETTO:+0000
TZNAME:UTC
DTSTART:20210101T000000
END:STANDARD
END:VTIMEZONE
BEGIN:VEVENT
DTSTART;TZID=America/New_York:20230429T100000
DTEND;TZID=America/New_York:20230429T120000
DTSTAMP:20260420T065812
CREATED:20230103T125506Z
LAST-MODIFIED:20230227T193838Z
UID:10324-1682762400-1682769600@greenscapeofjax.org
SUMMARY:National Arbor Day Tree Care Day and Park Clean Up
DESCRIPTION:Volunteers Needed!  Come help us celebrate National Arbor Day\, a day to recognize the importance of trees.  We’ll water\, mulch and fertilize trees at Lem Merrett Park. Volunteers sign up here.
URL:https://greenscapeofjax.org/event/national-arbor-day-tree-care-day/
LOCATION:Lem Merrett Park\, 845 Ellis Road South\, Jacksonville\, 32205\, United States
END:VEVENT
BEGIN:VEVENT
DTSTART;TZID=America/New_York:20230422T100000
DTEND;TZID=America/New_York:20230422T120000
DTSTAMP:20260420T065812
CREATED:20230103T124317Z
LAST-MODIFIED:20230227T192131Z
UID:10322-1682157600-1682164800@greenscapeofjax.org
SUMMARY:Earth Day Tree Care and Park Clean Up
DESCRIPTION:Volunteers Needed!  Join us to celebrate Earth Day as we water\, mulch and fertilize recently planted trees\, and clean up this historic S-Line Urban Trail.  Tools\, supplies and drinking water will be provided.  Volunteers sign up here.
URL:https://greenscapeofjax.org/event/earth-day-tree-care-and-park-clean-up/
LOCATION:S-Line North Terminus\, 5301 Norwood Ave.\, Jacksonville\, FL\, 32208\, United States
END:VEVENT
BEGIN:VEVENT
DTSTART;TZID=UTC:20230401T100000
DTEND;TZID=UTC:20230401T100000
DTSTAMP:20260420T065812
CREATED:20220929T160910Z
LAST-MODIFIED:20230217T161502Z
UID:10256-1680343200-1680343200@greenscapeofjax.org
SUMMARY:Community Tree Planting
DESCRIPTION:VOLUNTEERS NEEDED! Greenscape will plant trees at Brentwood Golf Course\, a City of Jacksonville park\, to add shade and age diversity to the canopy.  To volunteer\, click here.
URL:https://greenscapeofjax.org/event/community-tree-planting/
LOCATION:Brentwood City Golf Course\, 1157 Golfair Blvd.\, Jacksonville\, FL\, 32209\, United States
END:VEVENT
BEGIN:VEVENT
DTSTART;TZID=UTC:20230325T100000
DTEND;TZID=UTC:20230325T120000
DTSTAMP:20260420T065812
CREATED:20220920T193055Z
LAST-MODIFIED:20230307T193228Z
UID:10235-1679738400-1679745600@greenscapeofjax.org
SUMMARY:Community Tree Planting
DESCRIPTION:VOLUNTEERS NEEDED! Help us improve water quality in the McGirts Creek watershed!  Sponsored by FedEx and One Tree Planted\, we’ll plant\, water and mulch 100 trees on two Saturday mornings in March.  We’re collaborating locally with St. Johns Riverkeeper.  Join us! Click here to sign up.  (Please note: for the March 11 planting\, enter at the back entrance of the park\, located at 5978 Kinkaid Rd.\, 32244.  For the March 25 planting\, enter at the front entrance at 8535 118th St.\, 32244.) \nGreenscape Board Members\, click here to sign up to volunteer.
URL:https://greenscapeofjax.org/event/corporate-sponsored-planting-7/
LOCATION:Lew Brantley Park\, 8535 118th St.\, Jacksonville\, 32244\, United States
END:VEVENT
BEGIN:VEVENT
DTSTART;TZID=UTC:20230311T100000
DTEND;TZID=UTC:20230311T120000
DTSTAMP:20260420T065812
CREATED:20220920T192930Z
LAST-MODIFIED:20230307T192223Z
UID:10232-1678528800-1678536000@greenscapeofjax.org
SUMMARY:Community Tree Planting
DESCRIPTION:VOLUNTEERS NEEDED! Help us improve water quality in the McGirts Creek watershed!  Sponsored by FedEx and One Tree Planted\, we’ll plant\, water and mulch 100 trees on two Saturday mornings in March.  We’re collaborating locally with St. Johns Riverkeeper.  Join us! Click here to sign up.  (Please note: March 11\, we’ll plant at the back entrance of the park\, located at 5978 Kinkaid Rd. On March 25\, enter at the front entrance at 8535 118th St.) \nGreenscape Board Members\, click here to sign up to volunteer.
URL:https://greenscapeofjax.org/event/corporate-sponsored-planting-6/
LOCATION:Lew Brantley Park back entrance\, 5978 Kinkaid Rd.\, Jacksonville\, FL\, 32244
END:VEVENT
BEGIN:VEVENT
DTSTART;TZID=America/New_York:20230127T100000
DTEND;TZID=America/New_York:20230127T120000
DTSTAMP:20260420T065812
CREATED:20230103T222853Z
LAST-MODIFIED:20230105T173040Z
UID:10327-1674813600-1674820800@greenscapeofjax.org
SUMMARY:Community Tree Planting
DESCRIPTION:Greenscape is partering with First Horizon Bank to plant trees along the S-Line urban trail.  First Horizon Bank volunteers sign up here.  Greenscape Board volunteers sign up here.
URL:https://greenscapeofjax.org/event/community-tree-planting-3/
LOCATION:S-Line North Terminus\, 5301 Norwood Ave.\, Jacksonville\, FL\, 32208\, United States
END:VEVENT
BEGIN:VEVENT
DTSTART;TZID=UTC:20230120T090000
DTEND;TZID=UTC:20230120T230000
DTSTAMP:20260420T065812
CREATED:20220920T185730Z
LAST-MODIFIED:20230104T160455Z
UID:10229-1674205200-1674255600@greenscapeofjax.org
SUMMARY:Arbor Day 2023 Tree Planting
DESCRIPTION:We’re celebrating Florida’s Arbor Day with a tree planting at Florida State College at Jacksonville\, North Campus.  We’ll plant 50 trees with student volunteers.  No additional volunteers are needed.
URL:https://greenscapeofjax.org/event/arbor-day-2023-tree-planting/
LOCATION:FSCJ Nassau Campus\, 76346 William Burgess Blvd.\, Yulee\, 32097\, United States
END:VEVENT
BEGIN:VEVENT
DTSTART;TZID=UTC:20221209T093000
DTEND;TZID=UTC:20221209T113000
DTSTAMP:20260420T065812
CREATED:20221026T005652Z
LAST-MODIFIED:20221026T005652Z
UID:10269-1670578200-1670585400@greenscapeofjax.org
SUMMARY:Tree Maintenance
DESCRIPTION:Bank of America team members will join Greenscape to perform tree maintenance and replacement at Julius Guinyard Park.  Larry Figart\, forester with University of Florida IFAS\, will teach proper pruning and tree care.  No additional volunteers are needed.  Board members are welcome.
URL:https://greenscapeofjax.org/event/tree-maintenance/
LOCATION:Julius Guinyard Park\, 1359 N. Jefferson St.\, Jacksonville\, FL\, 32202\, United States
END:VEVENT
BEGIN:VEVENT
DTSTART;TZID=UTC:20221130T100000
DTEND;TZID=UTC:20221130T120000
DTSTAMP:20260420T065812
CREATED:20220920T171114Z
LAST-MODIFIED:20220928T183851Z
UID:10226-1669802400-1669809600@greenscapeofjax.org
SUMMARY:Community Tree Planting
DESCRIPTION:VOLUNTEERS NEEDED! Greenscape will partner with Ally Bank to plant trees along the S-Line North Terminus. To volunteer\, click here. \nGreenscape Board Members\, click here to sign up.
URL:https://greenscapeofjax.org/event/corporate-sponsored-planting-5/
LOCATION:S-Line North Terminus\, 5301 Norwood Ave.\, Jacksonville\, FL\, 32208\, United States
END:VEVENT
BEGIN:VEVENT
DTSTART;TZID=UTC:20221105T100000
DTEND;TZID=UTC:20221105T120000
DTSTAMP:20260420T065812
CREATED:20220919T193835Z
LAST-MODIFIED:20221025T184115Z
UID:10213-1667642400-1667649600@greenscapeofjax.org
SUMMARY:Community Tree Planting
DESCRIPTION:Community tree planting at LaVilla School of the Arts.  Volunteers already affiliated with LaVilla are needed\, plus 4 Greenscape board members.  LaVilla volunteers\, click here to sign up.  Greenscape Board Members\, click here to sign up.
URL:https://greenscapeofjax.org/event/corporate-sponsored-planting-4/
LOCATION:Lavilla School of the Arts\, 501 N. Davis Street\, Jacksonville\, 32202\, United States
END:VEVENT
BEGIN:VEVENT
DTSTART;TZID=UTC:20221022T090000
DTEND;TZID=UTC:20221022T130000
DTSTAMP:20260420T065812
CREATED:20221021T102822Z
LAST-MODIFIED:20221021T102822Z
UID:10264-1666429200-1666443600@greenscapeofjax.org
SUMMARY:Tree Giveaway to TD Bank Customers
DESCRIPTION:Greenscape will be giving away free trees to the first 100 customers at TD Bank’s new Normandy Blvd. branch.  The Grand Opening of the branch is Saturday\, Oct. 22\, 2022\, 9 am – 1 pm.  No volunteers are needed.
URL:https://greenscapeofjax.org/event/tree-giveaway-to-td-bank-customers/
LOCATION:TD Bank Normandy Blvd. branch\, 5665 Normandy Blvd.\, Jacksonville\, Florida\, 32205
END:VEVENT
BEGIN:VEVENT
DTSTART;TZID=UTC:20221021T100000
DTEND;TZID=UTC:20221021T120000
DTSTAMP:20260420T065812
CREATED:20220919T193216Z
LAST-MODIFIED:20220928T190308Z
UID:10209-1666346400-1666353600@greenscapeofjax.org
SUMMARY:Community Tree Planting
DESCRIPTION:Tree planting at Henry L. Brown Kooker Park.  We are thrilled to partner with TD Bank\, LIFT Jax and Greenlining Jax\, Inc.\, to plant trees in this historic Eastside park as we support the revitalization of this important neighborhood.  TD Bank employees\, click here to sign up.  Greenscape Board Members click here to sign up.
URL:https://greenscapeofjax.org/event/corporate-sponsored-planting-3/
LOCATION:Henry L. Brown Kooker Park\, 1400 East 20th St.\, Jacksonville\, FL\, 32206\, United States
END:VEVENT
BEGIN:VEVENT
DTSTART;TZID=UTC:20221007T100000
DTEND;TZID=UTC:20221007T120000
DTSTAMP:20260420T065812
CREATED:20220919T191829Z
LAST-MODIFIED:20220928T115405Z
UID:10206-1665136800-1665144000@greenscapeofjax.org
SUMMARY:Community Tree Planting
DESCRIPTION:Greenscape will partner with team members from TD Bank ‘s new Normandy Blvd. branch to plant trees in Lem Merrett Park.  No additional volunteers are needed.
URL:https://greenscapeofjax.org/event/corporate-sponsored-planting-2/
LOCATION:Lem Merrett Park\, 845 Ellis Road South\, Jacksonville\, 32205\, United States
END:VEVENT
BEGIN:VEVENT
DTSTART;TZID=UTC:20221004T100000
DTEND;TZID=UTC:20221004T140000
DTSTAMP:20260420T065812
CREATED:20220928T121727Z
LAST-MODIFIED:20220928T121727Z
UID:10246-1664877600-1664892000@greenscapeofjax.org
SUMMARY:Tree Commission Strategic Planning Session
DESCRIPTION:The City of Jacksonville Tree Commission is holding three facilitated Strategic Planning sessions to gather information about its past performance and set priorities for the future.  Greenscape Executive Director Lisa Grubba will be a presenter at the October 4\, 2022 session.
URL:https://greenscapeofjax.org/event/tree-commission-strategic-planning-session/
LOCATION:City of Jacksonville\, City Hall\, Lynwood Roberts Room\, 117 W Duval St.\, Jacksonville\, FL\, 32202\, United States
END:VEVENT
BEGIN:VEVENT
DTSTART;TZID=America/New_York:20220326T140000
DTEND;TZID=America/New_York:20220326T160000
DTSTAMP:20260420T065812
CREATED:20220117T195359Z
LAST-MODIFIED:20220225T195228Z
UID:10095-1648303200-1648310400@greenscapeofjax.org
SUMMARY:Community Planting
DESCRIPTION:Please join us Saturday\, March 26\, 2022\, for a tree planting at Julius Guinyard Park.  We’ll plant 50 trees for shade and storm water uptake. Just prior to the planting\, at 1:30 pm\, we’re hosting a talk on “Careers in Urban Forestry” led by industry professionals.  Sign up for one or both by clicking here.  The planting and career talk is being sponsored by One Tree Planted and Origins\, Nature’s Skin Care and Body Products.  Service hours will be granted to students who need them.
URL:https://greenscapeofjax.org/event/community-planting/
LOCATION:Julius Guinyard Park\, 1359 N. Jefferson St.\, Jacksonville\, FL\, 32202\, United States
END:VEVENT
BEGIN:VEVENT
DTSTART;TZID=America/New_York:20220310T080000
DTEND;TZID=America/New_York:20220311T170000
DTSTAMP:20260420T065812
CREATED:20220118T190455Z
LAST-MODIFIED:20220215T200245Z
UID:10097-1646899200-1647018000@greenscapeofjax.org
SUMMARY:Florida Urban Forestry Statewide Conference
DESCRIPTION:Greenscape Executive Director Lisa Grubba will be speaking at the statewide Florida Urban Forestry Conference.  The title of her talk is “Tree Advocacy – Improving the Urban Forest through Public-Private Partnerships.”
URL:https://greenscapeofjax.org/event/florida-urban-forestry-statewide-conference/
LOCATION:FL
END:VEVENT
BEGIN:VEVENT
DTSTART;TZID=America/New_York:20220218T100000
DTEND;TZID=America/New_York:20220218T100000
DTSTAMP:20260420T065812
CREATED:20220118T161307Z
LAST-MODIFIED:20220215T195903Z
UID:10096-1645178400-1645178400@greenscapeofjax.org
SUMMARY:National Cemetary Tree Planting
DESCRIPTION:Postponed: a new date will be announced soon.  We’ll plant trees at the National Cemetary to add shade and beautification to this important site\, which conducts six to eight veterans funerals per day.  The site previously has had very little shade.  It’s our hope that providing protection from the hot Florida sun and beautification will be a comfort to the families attending funerals or visiting gravesite.  More details will be added as they are planned.
URL:https://greenscapeofjax.org/event/national-cemetary-tree-planting/
LOCATION:FL
END:VEVENT
BEGIN:VEVENT
DTSTART;TZID=America/New_York:20220212T100000
DTEND;TZID=America/New_York:20220212T120000
DTSTAMP:20260420T065812
CREATED:20220103T211028Z
LAST-MODIFIED:20220117T182607Z
UID:10060-1644660000-1644667200@greenscapeofjax.org
SUMMARY:Friends of Boone Park Tree Planting
DESCRIPTION:Greenscape and the Friends of Boone Park will team up for our annual tree planting in this lovely Riverside park.  Our volunteer list is filled for this event.
URL:https://greenscapeofjax.org/event/friends-of-boone-park-tree-planting/
LOCATION:FL
END:VEVENT
BEGIN:VEVENT
DTSTART;TZID=America/New_York:20220128T100000
DTEND;TZID=America/New_York:20220128T120000
DTSTAMP:20260420T065812
CREATED:20220103T210138Z
LAST-MODIFIED:20220103T210138Z
UID:10058-1643364000-1643371200@greenscapeofjax.org
SUMMARY:Coastal Tree Planting
DESCRIPTION:We’re planting trees at a coastal park to help repair damage to the tree canopy caused by previous hurricanes.  We’ll be adding trees for shoreline stabalization\, storm water uptake\, carbon sequestration and heat reduction.  This is a privately-sponsored event; no volunteers are needed.
URL:https://greenscapeofjax.org/event/coastal-tree-planting/
LOCATION:FL
END:VEVENT
BEGIN:VEVENT
DTSTART;TZID=America/New_York:20220121T100000
DTEND;TZID=America/New_York:20220121T120000
DTSTAMP:20260420T065812
CREATED:20220103T205631Z
LAST-MODIFIED:20220117T182644Z
UID:10055-1642759200-1642766400@greenscapeofjax.org
SUMMARY:Arbor Day 2022 Tree Planting
DESCRIPTION:We’re celebrating Florida’s Arbor Day with a tree planting at Florida State College at Jacksonville\, North Campus.  We’ll plant 50 trees with student volunteers.  If you’d like to join us\, send an email to info@greenscapeofjax.org.
URL:https://greenscapeofjax.org/event/arbor-day-tree-planting/
LOCATION:FL
END:VEVENT
BEGIN:VEVENT
DTSTART;TZID=America/New_York:20211210T100000
DTEND;TZID=America/New_York:20211210T130000
DTSTAMP:20260420T065812
CREATED:20210928T204722Z
LAST-MODIFIED:20211102T132347Z
UID:9976-1639130400-1639141200@greenscapeofjax.org
SUMMARY:Corporate-Sponsored Planting
DESCRIPTION:Corporate-sponsored event\, no volunteers needed.  Any Greenscape board members or liaisons who would like to attend are welcome.
URL:https://greenscapeofjax.org/event/corporate-sponsored-planting/
LOCATION:Jim King Park and Boat Ramp at Sisters Creek\, 8203 Heckscher Drive\, Jacksonville\, FL\, 32226\, United States
END:VEVENT
BEGIN:VEVENT
DTSTART;TZID=America/New_York:20211117T113000
DTEND;TZID=America/New_York:20211117T130000
DTSTAMP:20260420T065812
CREATED:20211018T181721Z
LAST-MODIFIED:20211115T115445Z
UID:10001-1637148600-1637154000@greenscapeofjax.org
SUMMARY:Environmental Awards Luncheon
DESCRIPTION:Greenscape of Jacksonville is pleased to announce that former Executive Director Anna Dooley has won the Christi P. Veleta Environmental Award for her contribution to the city’s tree canopy.  Greenscape’s Board of Directors nominated Dooley for her 25 years of service to the community.  The award will be presented at a luncheon hosted by the Environmental Protection Board at the University of North Florida.  Greenscape board members and liasions are invited to reserve a seat for the luncheon.  Please click on the following link to access the Signup Genius: \nhttps://www.signupgenius.com/go/20f0c48a8ae2ca20-jacksonville
URL:https://greenscapeofjax.org/event/environmental-awards-luncheon/
LOCATION:Adam W. Herbert University Center\, 12000 Alumni Drive\, Jacksonville\, FL\, 32224\, United States
ATTACH;FMTTYPE=image/jpeg:https://greenscapeofjax.org/wp-content/uploads/2020/11/teaching-children.jpg
END:VEVENT
BEGIN:VEVENT
DTSTART;TZID=America/New_York:20211023T090000
DTEND;TZID=America/New_York:20211023T120000
DTSTAMP:20260420T065812
CREATED:20210915T210842Z
LAST-MODIFIED:20210928T201751Z
UID:9963-1634979600-1634990400@greenscapeofjax.org
SUMMARY:Tree Planting Sponsored by TD Bank
DESCRIPTION:VOLUNTEERS NEEDED \nJoin us on October 23rd as we plant 30 shade trees at Barney Browning Park. This is a great opportunity for both individuals and groups to give back to the community. Volunteer sign ups are open\, so head to https://www.signupgenius.com/go/20f0c48a8ae2ca20-tree to reserve your spot today!
URL:https://greenscapeofjax.org/event/tree-planting-sponsored-by-td-bank-2/
LOCATION:Barney Browning Park\, 6014 Norwood Avenue\, Jacksonville\, FL\, 32208\, United States
END:VEVENT
BEGIN:VEVENT
DTSTART;TZID=America/New_York:20211023T090000
DTEND;TZID=America/New_York:20211023T120000
DTSTAMP:20260420T065812
CREATED:20210915T210433Z
LAST-MODIFIED:20210928T202423Z
UID:9959-1634979600-1634990400@greenscapeofjax.org
SUMMARY:Tree Planting Sponsored by TD Bank
DESCRIPTION:VOLUNTEERS NEEDED \nJoin us on October 23rd as we plant 15 shade trees at Wigmore Park. This is a great opportunity for both individuals and groups to give back to the community. Volunteer sign ups are open\, so head to https://www.signupgenius.com/go/20f0c48a8ae2ca20-tree to reserve your spot today!
URL:https://greenscapeofjax.org/event/tree-planting-sponsored-by-td-bank/
LOCATION:Wigmore Park\, 1805 Wigmore Street\, Jacksonville\, FL\, 32206\, United States
END:VEVENT
BEGIN:VEVENT
DTSTART;TZID=America/New_York:20210922T093000
DTEND;TZID=America/New_York:20210922T110000
DTSTAMP:20260420T065812
CREATED:20210824T170007Z
LAST-MODIFIED:20210824T170007Z
UID:9907-1632303000-1632308400@greenscapeofjax.org
SUMMARY:Tree Commission Meeting
DESCRIPTION:The Tree Commission is a legislative committee of the Department of Public Works for the City of Jacksonville that\, among many duties\, acts as a coordinator for programs\, projects\, and activities related to planting projects and the health of the tree canopy between all public and private entities. \nMonthly meetings are on the 3rd Wednesday of the month from 9:30 a.m. – 11:00 a.m. in the Ed Ball Building on the 10th floor in Conference Room 5. For meeting agendas\, meeting minutes and program information please see the link below.
URL:https://greenscapeofjax.org/event/tree-commission-meeting/
LOCATION:Ed Ball Building\, 10th Floor\, Conference Room 5\, 214 N Hogan Street\, Jacksonville\, FL\, 32202\, United States
END:VEVENT
BEGIN:VEVENT
DTSTART;TZID=America/New_York:20210909T160000
DTEND;TZID=America/New_York:20210909T170000
DTSTAMP:20260420T065812
CREATED:20210824T142431Z
LAST-MODIFIED:20210824T142431Z
UID:9893-1631203200-1631206800@greenscapeofjax.org
SUMMARY:Jacksonville Equestrian Center Tree Planting Ribbon Cutting
DESCRIPTION:In a recent partnership between Greenscape of Jacksonville and the Jacksonville Equestrian Center\, there was a tree planting project of 101 trees. These newly planted trees will provide welcome shade\, beautification\, and water uptake in low-lying areas. Join us in celebrating this planting project at the ribbon cutting event at the Jacksonville Equestrian Center on September 9th.
URL:https://greenscapeofjax.org/event/jacksonville-equestrian-center-tree-planting-ribbon-cutting/
LOCATION:Jacksonville Equestrian Center\, 13611 Normandy Boulevard\, Jacksonville\, FL\, 32221\, United States
END:VEVENT
BEGIN:VEVENT
DTSTART;TZID=America/New_York:20210213T090000
DTEND;TZID=America/New_York:20210213T110000
DTSTAMP:20260420T065812
CREATED:20210212T024823Z
LAST-MODIFIED:20210212T033015Z
UID:9664-1613206800-1613214000@greenscapeofjax.org
SUMMARY:Tree Planting in Boone Park South
DESCRIPTION:GREENSCAPE OF JACKSONVILLE and FRIENDS of BOONE PARK SOUTH\n2021 TREE PLANTING\nSaturday\, February 13\, 2021\nBegins at 9 A.M.\n3725 St Johns Ave\, Jacksonville\, FL 32205\n\nRAIN OR SHINE – BUT NOT LIGHTNING\n(If weather is prohibitive\, event will take place next day – Sunday\, February 14)\n\nSafety and Planting Demonstration by Joe Anderson JEA Forester\nTrees furnished by GreenReLeaf\, a partnership of Greenscape and JEA.\n22 Mixed Species\n(Pines\, Dahoon Holly\, Laurel Oak\, Shumard Oak and Live Oak)\nEach tree planted by neighborhood families who also commit to water and care for their trees for first year.\n5th Collaboration to enhance Boone Park\nContact Information: \nGREENSCAPE: Anna Dooley (904) 616-0326\nFRIENDS OF BOONE PARK SOUTH: Pamela Telis (904) 307-6010 \nFacebook Event Page\nGreenscape Event Page\n2021 BOONE PARK SOUTH TREE PLANTING EVENT FLYER \n 
URL:https://greenscapeofjax.org/event/tree-planting-in-boone-park-south/
LOCATION:Boone Park South\, 3725 St Johns Avenue\, Jacksonville\, 32205
END:VEVENT
BEGIN:VEVENT
DTSTART;TZID=America/New_York:20190504T173000
DTEND;TZID=America/New_York:20190504T230000
DTSTAMP:20260420T065812
CREATED:20190102T212128Z
LAST-MODIFIED:20210622T170629Z
UID:7911-1556991000-1557010800@greenscapeofjax.org
SUMMARY:The Root Ball 2019: Derby Evening Under The Oaks
DESCRIPTION:This annual event produced with the Late Bloomers Garden Club will take place on Saturday\, May 4th\, 2019 at the Bowing Oaks Plantation.  The festivities begin at 5:30 with the running of the 145th Kentucky Derby.  Help us celebrate a “Derby Evening Under The Oaks” with Mint Juleps\, Bourbon Tastings\, a Bodacious Hat Contest and live music provided by The Firewater Tent Revival. For updates about Root Ball 2019 please visit our FaceBook Event page here: RootBall2019.\n(2019 Root Ball Press Release) \nTickets may be purchased below or you may send in a check using the downloadable form here:  Root Ball 2019 Reservation Form.
URL:https://greenscapeofjax.org/event/the-root-ball-2019/
LOCATION:FL
ATTACH;FMTTYPE=image/png:https://greenscapeofjax.org/wp-content/uploads/2015/01/2019-root-ball-cropped.png
END:VEVENT
END:VCALENDAR