BEGIN:VCALENDAR
VERSION:2.0
PRODID:-//Greenscape of Jacksonville - ECPv6.15.20//NONSGML v1.0//EN
CALSCALE:GREGORIAN
METHOD:PUBLISH
X-WR-CALNAME:Greenscape of Jacksonville
X-ORIGINAL-URL:https://greenscapeofjax.org
X-WR-CALDESC:Events for Greenscape of Jacksonville
REFRESH-INTERVAL;VALUE=DURATION:PT1H
X-Robots-Tag:noindex
X-PUBLISHED-TTL:PT1H
BEGIN:VTIMEZONE
TZID:America/New_York
BEGIN:DAYLIGHT
TZOFFSETFROM:-0500
TZOFFSETTO:-0400
TZNAME:EDT
DTSTART:20240310T070000
END:DAYLIGHT
BEGIN:STANDARD
TZOFFSETFROM:-0400
TZOFFSETTO:-0500
TZNAME:EST
DTSTART:20241103T060000
END:STANDARD
BEGIN:DAYLIGHT
TZOFFSETFROM:-0500
TZOFFSETTO:-0400
TZNAME:EDT
DTSTART:20250309T070000
END:DAYLIGHT
BEGIN:STANDARD
TZOFFSETFROM:-0400
TZOFFSETTO:-0500
TZNAME:EST
DTSTART:20251102T060000
END:STANDARD
BEGIN:DAYLIGHT
TZOFFSETFROM:-0500
TZOFFSETTO:-0400
TZNAME:EDT
DTSTART:20260308T070000
END:DAYLIGHT
BEGIN:STANDARD
TZOFFSETFROM:-0400
TZOFFSETTO:-0500
TZNAME:EST
DTSTART:20261101T060000
END:STANDARD
BEGIN:DAYLIGHT
TZOFFSETFROM:-0500
TZOFFSETTO:-0400
TZNAME:EDT
DTSTART:20270314T070000
END:DAYLIGHT
BEGIN:STANDARD
TZOFFSETFROM:-0400
TZOFFSETTO:-0500
TZNAME:EST
DTSTART:20271107T060000
END:STANDARD
END:VTIMEZONE
BEGIN:VTIMEZONE
TZID:UTC
BEGIN:STANDARD
TZOFFSETFROM:+0000
TZOFFSETTO:+0000
TZNAME:UTC
DTSTART:20250101T000000
END:STANDARD
END:VTIMEZONE
BEGIN:VEVENT
DTSTART;TZID=America/New_York:20250208T090000
DTEND;TZID=America/New_York:20250208T110000
DTSTAMP:20260420T065723
CREATED:20230124T164741Z
LAST-MODIFIED:20241023T151338Z
UID:10334-1739005200-1739012400@greenscapeofjax.org
SUMMARY:Community Planting and Park Clean Up
DESCRIPTION:Join us for the annual “Love Boone Park South Day” with the Friends of Boone Park.  The park has lost nearly 20 large\, old and magnificent trees in the last two years due to storms. Greenscape will support Friends of Boone Park South by providing 30 shade trees to help replace the lost trees.  Come spend a beautiful Saturday morning with this friendly neighborhood group and make a difference in our community.
URL:https://greenscapeofjax.org/event/community-planting-and-park-clean-up/
LOCATION:Boone Park South\, 3725 St Johns Avenue\, Jacksonville\, 32205
CATEGORIES:Tree Planting
ATTACH;FMTTYPE=image/jpeg:https://greenscapeofjax.org/wp-content/uploads/2023/01/IMG_0964-scaled.jpg
END:VEVENT
BEGIN:VEVENT
DTSTART;TZID=America/New_York:20250307T090000
DTEND;TZID=America/New_York:20250307T150000
DTSTAMP:20260420T065723
CREATED:20250228T161004Z
LAST-MODIFIED:20250228T162503Z
UID:11946-1741338000-1741359600@greenscapeofjax.org
SUMMARY:Tree Keeper Orientation
DESCRIPTION:We are hosting an orientation for all applicants accepted into the Tree Keeper Maintenance Program. This event is invite only and not open to the public!
URL:https://greenscapeofjax.org/event/tree-keeper-orientation/
LOCATION:FL
END:VEVENT
BEGIN:VEVENT
DTSTART;TZID=America/New_York:20250329T100000
DTEND;TZID=America/New_York:20250329T120000
DTSTAMP:20260420T065723
CREATED:20250225T212833Z
LAST-MODIFIED:20250227T201420Z
UID:11943-1743242400-1743249600@greenscapeofjax.org
SUMMARY:Community Tree Planting
DESCRIPTION:We are thrilled to partner with Coca-Cola Beverages Florida to plant\, water and mulch 30 trees in Hammond park!  This initiative is part of our commitment to grow our tree canopy in Jacksonville.  Together we can make a greener\, healthier future for all.  Volunteer spots are full.
URL:https://greenscapeofjax.org/event/community-tree-planting-12/
LOCATION:Hammond Park\, 2142 Melson Ave.\, Jacksonville\, FL\, 32254\, United States
END:VEVENT
BEGIN:VEVENT
DTSTART;TZID=America/New_York:20250405T100000
DTEND;TZID=America/New_York:20250405T120000
DTSTAMP:20260420T065723
CREATED:20250228T161821Z
LAST-MODIFIED:20250228T161821Z
UID:11947-1743847200-1743854400@greenscapeofjax.org
SUMMARY:RL Brown and UPS Tree Planting
DESCRIPTION:We are excited to work with UPS to plant trees at RL Brown Gifted and Academically Talented Academy! Volunteer listing is TBD.
URL:https://greenscapeofjax.org/event/rl-brown-and-ups-tree-planting/
LOCATION:RL Brown Gifted and Academically Talented Academy\, 1535 Milnor St\, Jacksonville\, FL\, 32206\, United States
END:VEVENT
BEGIN:VEVENT
DTSTART;TZID=America/New_York:20250412T180000
DTEND;TZID=America/New_York:20250412T220000
DTSTAMP:20260420T065723
CREATED:20241220T173757Z
LAST-MODIFIED:20250107T173922Z
UID:11479-1744480800-1744495200@greenscapeofjax.org
SUMMARY:2025 Root Ball - 50th Anniversary Celebration
DESCRIPTION:Join us for a Celebration of Trees Unlike Any Other. Greenscape of Jacksonville celebrates 50 years of tree advocacy. This special fundraising event at the River Club will feature a Masters Tournament theme with dinner\, silent and live auctions\, and a mini-golf tournament. \nWith your help\, Greenscape will continue its mission to Plant\, Protect\, and Promote trees across Northeast Florida. \nClick here to purchase a ticket: https://givebutter.com/c/RootBall2025
URL:https://greenscapeofjax.org/event/rootball2025/
LOCATION:River Club\, 1 Independent Dr # 3500\, Jacksonville\, FL\, 32202\, United States
ATTACH;FMTTYPE=image/png:https://greenscapeofjax.org/wp-content/uploads/2024/12/root-ball-2.png
END:VEVENT
BEGIN:VEVENT
DTSTART;TZID=America/New_York:20250426T100000
DTEND;TZID=America/New_York:20250426T120000
DTSTAMP:20260420T065723
CREATED:20250228T162439Z
LAST-MODIFIED:20250228T162439Z
UID:11949-1745661600-1745668800@greenscapeofjax.org
SUMMARY:National Arbor Day Tree Care Event
DESCRIPTION:We will welcome back Coca-Cola Beverages Florida to maintain the trees they planted in Hammond park in March!
URL:https://greenscapeofjax.org/event/national-arbor-day-tree-care-event/
LOCATION:Hammond Park\, 2142 Melson Ave.\, Jacksonville\, FL\, 32254\, United States
END:VEVENT
BEGIN:VEVENT
DTSTART;TZID=America/New_York:20250728T100000
DTEND;TZID=America/New_York:20250728T120000
DTSTAMP:20260420T065723
CREATED:20250710T174521Z
LAST-MODIFIED:20250710T182331Z
UID:12180-1753696800-1753704000@greenscapeofjax.org
SUMMARY:Community Tree Planting - Douglas Anderson School of the Arts
DESCRIPTION:Greenscape is excited to announce a special tree planting and beautification project at Douglas Anderson School of the Arts new amphitheater.  This amazing school held deep meaning for one of our beloved founders\, Ann Baker.  Together\, we’ll honor Ann’s legacy by adding beauty\, shade\, and life to a space that will inspire creativity for years to come. This is a wonderful opportunity to give back\, connect with the community\, and make a lasting impact.
URL:https://greenscapeofjax.org/event/community-tree-planting-douglas-anderson-school-of-the-arts/
LOCATION:Douglas Anderson School of the Arts\, 2445 San Diego Rd.\, Jacksonville\, 32207\, United States
END:VEVENT
BEGIN:VEVENT
DTSTART;TZID=America/New_York:20250912T090000
DTEND;TZID=America/New_York:20250912T110000
DTSTAMP:20260420T065723
CREATED:20250903T175744Z
LAST-MODIFIED:20250903T181343Z
UID:12213-1757667600-1757674800@greenscapeofjax.org
SUMMARY:Tree Keepers - Marjenhoff Park
DESCRIPTION:Our next Tree Keepers event is Friday\, September 12\, 9 – 11 am at Marjenhoff Park. We will prune\, fertilize\, water and mulch trees we planted two years ago. This event is for registered Tree Keepers only.
URL:https://greenscapeofjax.org/event/tree-keepers-marjenhoff-park/
LOCATION:Marjenhoff Park\, 1955 Southhampton Rd.\, Jacksonville\, fl\, 32207
END:VEVENT
BEGIN:VEVENT
DTSTART;TZID=America/New_York:20250917T173000
DTEND;TZID=America/New_York:20250917T190000
DTSTAMP:20260420T065723
CREATED:20250710T190908Z
LAST-MODIFIED:20250903T174145Z
UID:12187-1758130200-1758135600@greenscapeofjax.org
SUMMARY:State of the Tree Canopy Town Hall
DESCRIPTION:🌳 State of the Canopy Town Hall 🌳 \nHosted by: \nGreenscape of Jacksonville & WJCT \nJoin us for an engaging town hall discussion on the state of our urban forest. \nWe’ll explore: \n🌱 The benefits of trees in an urban environment \n🌱 The status of the tree canopy in Northeast Florida and Duval County \n🌱 The impact of tree coverage on First Coast residents \n🌱 How the public can get involved in protecting and expanding our canopy \nCome learn\, share\, and grow with us! \nThe event is free\, but space is limited.  Please register to attend here.
URL:https://greenscapeofjax.org/event/state-of-the-tree-canopy-town-hall/
LOCATION:WJCT Studios\, 100 Festival Park Ave.\, Jacksonville\, FL\, 32202\, United States
END:VEVENT
BEGIN:VEVENT
DTSTART;TZID=America/New_York:20251003T100000
DTEND;TZID=America/New_York:20251003T120000
DTSTAMP:20260420T065723
CREATED:20250902T184009Z
LAST-MODIFIED:20250902T184534Z
UID:12202-1759485600-1759492800@greenscapeofjax.org
SUMMARY:Community Tree Planting - Flossie Brunson Eastside Park
DESCRIPTION:We are thrilled to facilitate the planting of trees that will enhance and benefit this beautiful neighborhood park for years to come. Many thanks to TD Bank for sponsoring this event.   Outside volunteer list is full.
URL:https://greenscapeofjax.org/event/community-tree-planting-flossie-brunson-eastside-park/
LOCATION:Flossie Brunson Eastside Park\, 1050 Franklin Street\, Jacksonville\, FL\, 32206\, United States
END:VEVENT
BEGIN:VEVENT
DTSTART;TZID=America/New_York:20251024T100000
DTEND;TZID=America/New_York:20251024T120000
DTSTAMP:20260420T065723
CREATED:20251008T144503Z
LAST-MODIFIED:20251008T144503Z
UID:12255-1761300000-1761307200@greenscapeofjax.org
SUMMARY:Community Tree Planting
DESCRIPTION:We’re thrilled to partner with volunteers from Deutsche Bank to plant trees at Glen Myra Park. The new trees will bring much needed shade\, improve stormwater management\, and add natural beauty to this well-used community park. Thank you to Deutsche Bank for making this event possible.
URL:https://greenscapeofjax.org/event/community-tree-planting-13/
LOCATION:Glen Myra Park\, 1429 Winthrop Street\, Jacksonville\, FL\, 32206\, United States
END:VEVENT
BEGIN:VEVENT
DTSTART;TZID=America/New_York:20251031T090000
DTEND;TZID=America/New_York:20251031T110000
DTSTAMP:20260420T065723
CREATED:20251008T145947Z
LAST-MODIFIED:20251008T145947Z
UID:12257-1761901200-1761908400@greenscapeofjax.org
SUMMARY:Tree Keepers - Jacksonville Equestrian Center
DESCRIPTION:Our next Tree Keepers event will take place on Friday\, October 31\, from 9 – 11 am at the Jacksonville Equestrian Center. We’ll revisit the trees we planted several years ago to prune\, fertilize\, water and mulch them. This event is exclusively for registered Tree Keepers.
URL:https://greenscapeofjax.org/event/tree-keepers-jacksonville-equestrian-center/
LOCATION:Jacksonville Equestrian Center\, 13611 Normandy Boulevard\, Jacksonville\, FL\, 32221\, United States
END:VEVENT
BEGIN:VEVENT
DTSTART;TZID=UTC:20260116T130000
DTEND;TZID=UTC:20260116T163000
DTSTAMP:20260420T065723
CREATED:20220928T120924Z
LAST-MODIFIED:20260106T201646Z
UID:10244-1768568400-1768581000@greenscapeofjax.org
SUMMARY:Great Tree Giveaway - Friday Unloading and Staging - UNF Stadium Parking Lot 18
DESCRIPTION:Volunteer oppotunties for Friday afternoon unloading and staging for the Tree Giveaway are filled.  Thank you so much for support as we work to improve the tree canopy in our community!
URL:https://greenscapeofjax.org/event/tree-giveaway-unloading-and-stage-event/
LOCATION:UNF Stadium Parking Lot 18\, 1 UNF Drive\, Jacksonville\, FL\, 32224\, United States
CATEGORIES:Tree Giveaway
ATTACH;FMTTYPE=image/jpeg:https://greenscapeofjax.org/wp-content/uploads/2022/09/Copy-of-F2B95EB9-973E-4F8F-905B-F8E1146B46E1.jpg
END:VEVENT
BEGIN:VEVENT
DTSTART;TZID=America/New_York:20260117T090000
DTEND;TZID=America/New_York:20260117T130000
DTSTAMP:20260420T065723
CREATED:20170215T010113Z
LAST-MODIFIED:20260105T200143Z
UID:8655-1768640400-1768654800@greenscapeofjax.org
SUMMARY:Great Tree Giveaway and Paper Collection Event - UNF Stadium Parking Lot 18
DESCRIPTION:Free trees and free document shredding!  We’re partnering with Keep Jacksonville Beautiful who will collect up to 2 (30) gallon bags of paper documents that will be hauled offsite for shredding.  It’s a drive-through event\, drop your bags for shredding and then pop your trunk for free trees! Join us at UNF Stadium Parking Lot 18\, located between S UNF Dr. and North Entrance Rd. to receive your trees  and drop off paper for recycling. \nUp to 3 free trees on a first-come\, first-serve basis. Trees are 3 gallon and stand approximately 4 -6 feet tall. \nEmail us at info@greenscapeofjacksonville.org\, or call 904-398-5757 if you have questions.  For information about the paper collection event\, call COJ Environmental Quality Division at 904-255-8276. \nVolunteer opportunities for Saturday are full. If you are interested in volunteering on Friday\, visit our calendar and click on the Great Tree Giveaway Friday Unloading/Staging volunteer opportunity to sign up.
URL:https://greenscapeofjax.org/event/greenscape-tree-festival/
LOCATION:UNF Stadium Parking Lot 18\, 1 UNF Drive\, Jacksonville\, FL\, 32224\, United States
CATEGORIES:Tree Giveaway
ATTACH;FMTTYPE=image/jpeg:https://greenscapeofjax.org/wp-content/uploads/2020/10/28.jpg
END:VEVENT
BEGIN:VEVENT
DTSTART;TZID=America/New_York:20260307T090000
DTEND;TZID=America/New_York:20260307T110000
DTSTAMP:20260420T065723
CREATED:20251008T150743Z
LAST-MODIFIED:20260219T151059Z
UID:12261-1772874000-1772881200@greenscapeofjax.org
SUMMARY:Community Tree Planting
DESCRIPTION:Join Groundwork Jacksonville and Greenscape of Jacksonville for a community tree-planting event along the S-Line section of the Emerald Trail! Together\, we’ll plant 60 new trees that will help cool our neighborhoods\, manage stormwater\, and improve local air quality. \nThe event will take place on March 7th\, from 9:00–11:00 AM. All tools\, planting supplies\, and gloves will be provided. Please wear closed-toe shoes and bring a refillable water bottle. We look forward to planting with you! \nLocation: Southern S-Line between Boulevard St and Moncrief Rd.  Parking: Open lot at the corner of Boulevard and 12th.   \nMap \nSign up to volunteer below: \n  \n 
URL:https://greenscapeofjax.org/event/community-tree-planting-14/
LOCATION:S Line Greenway Blvd. St. Trailhead\, 2299 Boulevard Street\, Jacksonville\, FL\, 32206\, United States
END:VEVENT
BEGIN:VEVENT
DTSTART;TZID=America/New_York:20260314T094500
DTEND;TZID=America/New_York:20260314T120000
DTSTAMP:20260420T065723
CREATED:20260219T163915Z
LAST-MODIFIED:20260313T152214Z
UID:12418-1773481500-1773489600@greenscapeofjax.org
SUMMARY:Community Tree Planting
DESCRIPTION:Join Greenscape of Jacksonville for a community tree planting event at Russell B. Cook Jr Park. We’ll plant trees that will help cool our neighborhoods\, manage stormwater\, and improve local air quality. \nThe event will take place March 14th\, from 9:45–12:00 PM. All tools\, planting supplies\, and gloves will be provided. Please wear closed-toe shoes and bring a refillable water bottle. We look forward to planting with you!  \n Sign up to volunteer here: \n  \n  \n  \n  \n  \n 
URL:https://greenscapeofjax.org/event/community-tree-planting-16/
LOCATION:Russell B. Cook\, Jr. Park\, 3300 Jones Street\, Jacksonville\, FL\, 32206
END:VEVENT
BEGIN:VEVENT
DTSTART;TZID=America/New_York:20260328T094500
DTEND;TZID=America/New_York:20260328T120000
DTSTAMP:20260420T065723
CREATED:20260219T184149Z
LAST-MODIFIED:20260304T162358Z
UID:12423-1774691100-1774699200@greenscapeofjax.org
SUMMARY:Community Tree Planting
DESCRIPTION:Join Greenscape of Jacksonville for a community tree planting event at Wigmore Park. We’ll plant trees that will help cool our neighborhoods\, manage stormwater\, and improve local air quality. \nThe event will take place March 28th\, from 9:45–12:00 PM. All tools\, planting supplies\, and gloves will be provided. Please wear closed-toe shoes and bring a refillable water bottle. We look forward to planting with you!  \nSign up to volunteer below.
URL:https://greenscapeofjax.org/event/community-tree-planting-17/
LOCATION:Wigmore Park\, 1805 Wigmore Street\, Jacksonville\, FL\, 32206\, United States
END:VEVENT
BEGIN:VEVENT
DTSTART;TZID=America/New_York:20260403T090000
DTEND;TZID=America/New_York:20260403T110000
DTSTAMP:20260420T065723
CREATED:20260219T145248Z
LAST-MODIFIED:20260317T191643Z
UID:12408-1775206800-1775214000@greenscapeofjax.org
SUMMARY:Community Tree Planting
DESCRIPTION:  \nJoin Groundwork Jacksonville and Greenscape of Jacksonville for a community tree-planting event along the S-Line section of the Emerald Trail! Together\, we’ll plant 60 new trees that will help cool our neighborhoods\, manage stormwater\, and improve local air quality. \nThe event will take place on April 3rd\, from 9:00–11:00 AM. All tools\, planting supplies\, and gloves will be provided. Please wear closed-toe shoes and bring a refillable water bottle. We look forward to planting with you! \nLocation: Southern S-Line between Moncrief Rd and Myrtle Ave.    \nMap \nSign up to volunteer below:
URL:https://greenscapeofjax.org/event/community-tree-planting-15/
LOCATION:Southern S Line\, 1098 W. 6th St.\, Jacksonville\, FL\, 32209
END:VEVENT
BEGIN:VEVENT
DTSTART;TZID=America/New_York:20260427T100000
DTEND;TZID=America/New_York:20260427T120000
DTSTAMP:20260420T065723
CREATED:20260414T185141Z
LAST-MODIFIED:20260415T143647Z
UID:12502-1777284000-1777291200@greenscapeofjax.org
SUMMARY:Canopy Coalition - Structural Success Starts at Planting
DESCRIPTION:Elevating Northeast Florida’s Urban Forest\nIntroducing the Canopy Coalition Continuing Education Series \nGreenscape is proud to announce the launch of the Canopy Coalition\, a brand-new continuing education initiative dedicated to empowering urban forestry professionals across Northeast Florida. Our mission is to provide high-caliber\, accessible training that keeps our local green industry at the forefront of modern arboriculture. To kick off this landmark series\, we are honored to host world-renowned pruning\nauthority Dr. Ed Gilman for an intensive technical workshop. \nInaugural Session: Structural Success Starts at Planting \nTopic: Pruning Trees at and Soon After Planting to Improve Structure and Clearance \nThe foundation of a resilient urban canopy is laid in the first few years of a tree’s life. Dr. Gilman will guide participants through the critical techniques required to create urban-compatible tree architecture\, ensuring long-term health\, safety\, and infrastructure\ncompatibility. \nProfessional Benefits: \n\nExpert Instruction: Learn directly from Dr. Ed Gilman\, a leading voice in tree\npruning research and practice.\nEarn 2 CEUs: This session is specifically tailored for arborists and green\nprofessionals needing to maintain professional certifications.\nRegional Networking: Connect with fellow Northeast Florida forestry leaders as\nwe launch this new educational community.\nSecure Your Entry: As part of our commitment to an interactive learning experience\,\navailability is strictly limited to the first 50 registrants.  Any registrations over 50 will be wait listed and we’ll reach out in order in case any last minute cancelations.\n\nJoin the Coalition\nBe a part of the inaugural class of the Canopy Coalition and help us grow a stronger\,\nmore sustainable urban forest for Northeast Florida.
URL:https://greenscapeofjax.org/event/canopy-coalition-structural-success-starts-at-planting/
LOCATION:UNF Lot 18\, 10 UNF Drive\, Jacksonville\, FL\, 32224\, United States
END:VEVENT
END:VCALENDAR