BEGIN:VCALENDAR
VERSION:2.0
PRODID:-//Greenscape of Jacksonville - ECPv6.15.20//NONSGML v1.0//EN
CALSCALE:GREGORIAN
METHOD:PUBLISH
X-WR-CALNAME:Greenscape of Jacksonville
X-ORIGINAL-URL:https://greenscapeofjax.org
X-WR-CALDESC:Events for Greenscape of Jacksonville
REFRESH-INTERVAL;VALUE=DURATION:PT1H
X-Robots-Tag:noindex
X-PUBLISHED-TTL:PT1H
BEGIN:VTIMEZONE
TZID:America/New_York
BEGIN:DAYLIGHT
TZOFFSETFROM:-0500
TZOFFSETTO:-0400
TZNAME:EDT
DTSTART:20230312T070000
END:DAYLIGHT
BEGIN:STANDARD
TZOFFSETFROM:-0400
TZOFFSETTO:-0500
TZNAME:EST
DTSTART:20231105T060000
END:STANDARD
BEGIN:DAYLIGHT
TZOFFSETFROM:-0500
TZOFFSETTO:-0400
TZNAME:EDT
DTSTART:20240310T070000
END:DAYLIGHT
BEGIN:STANDARD
TZOFFSETFROM:-0400
TZOFFSETTO:-0500
TZNAME:EST
DTSTART:20241103T060000
END:STANDARD
BEGIN:DAYLIGHT
TZOFFSETFROM:-0500
TZOFFSETTO:-0400
TZNAME:EDT
DTSTART:20250309T070000
END:DAYLIGHT
BEGIN:STANDARD
TZOFFSETFROM:-0400
TZOFFSETTO:-0500
TZNAME:EST
DTSTART:20251102T060000
END:STANDARD
END:VTIMEZONE
BEGIN:VEVENT
DTSTART;TZID=America/New_York:20240504T180000
DTEND;TZID=America/New_York:20240504T210000
DTSTAMP:20260424T052222
CREATED:20231107T214107Z
LAST-MODIFIED:20240503T194359Z
UID:10635-1714845600-1714856400@greenscapeofjax.org
SUMMARY:Root Ball 2024
DESCRIPTION:Friday\, May 3\, 2024: SOLD OUT!  Join us for the 17th annual Root Ball\, a celebration of trees and the communities we plant them in.  We’ll enjoy casino games\, cheering on the Kentucky Derby race\, and delicious eats and drinks as we celebrate years of hard work improving Jacksonville’s tree canopy.  Funds raised buy trees and educational materials\, like tree books for school children.  We hope to see you there!  For tickets\, sponsorship opportunities and more information\, click here.
URL:https://greenscapeofjax.org/event/root-ball-2024/
LOCATION:Garden Club of Jacksonville\, 1005 Riverside Ave.\, Jacksonville\, FL\, 32204\, United States
CATEGORIES:Fundraiser
ATTACH;FMTTYPE=image/jpeg:https://greenscapeofjax.org/wp-content/uploads/2023/05/Root-Ball-5-6-2023-8045.jpg
END:VEVENT
END:VCALENDAR